BEGIN:VCALENDAR
VERSION:2.0
PRODID:-//ASSG - ECPv6.15.15//NONSGML v1.0//EN
CALSCALE:GREGORIAN
METHOD:PUBLISH
X-WR-CALNAME:ASSG
X-ORIGINAL-URL:https://assg.org.au
X-WR-CALDESC:Events for ASSG
REFRESH-INTERVAL;VALUE=DURATION:PT1H
X-Robots-Tag:noindex
X-PUBLISHED-TTL:PT1H
BEGIN:VTIMEZONE
TZID:Australia/Adelaide
BEGIN:STANDARD
TZOFFSETFROM:+1030
TZOFFSETTO:+0930
TZNAME:ACST
DTSTART:20220402T163000
END:STANDARD
BEGIN:DAYLIGHT
TZOFFSETFROM:+0930
TZOFFSETTO:+1030
TZNAME:ACDT
DTSTART:20221001T163000
END:DAYLIGHT
BEGIN:STANDARD
TZOFFSETFROM:+1030
TZOFFSETTO:+0930
TZNAME:ACST
DTSTART:20230401T163000
END:STANDARD
BEGIN:DAYLIGHT
TZOFFSETFROM:+0930
TZOFFSETTO:+1030
TZNAME:ACDT
DTSTART:20230930T163000
END:DAYLIGHT
BEGIN:STANDARD
TZOFFSETFROM:+1030
TZOFFSETTO:+0930
TZNAME:ACST
DTSTART:20240406T163000
END:STANDARD
BEGIN:DAYLIGHT
TZOFFSETFROM:+0930
TZOFFSETTO:+1030
TZNAME:ACDT
DTSTART:20241005T163000
END:DAYLIGHT
END:VTIMEZONE
BEGIN:VEVENT
DTSTART;TZID=Australia/Adelaide:20230615T183000
DTEND;TZID=Australia/Adelaide:20230615T183000
DTSTAMP:20260425T205641
CREATED:20230606T075639Z
LAST-MODIFIED:20250922T075857Z
UID:9646-1686853800-1686853800@assg.org.au
SUMMARY:AVID Pro Tools webinar
DESCRIPTION:AVID Pro Tools webinar\nDrew Parson (AVID) and Carlos Manrique Clavijo (SA Rep) will be hosting a webinar for ASSG Members\, running through the new features in Pro Tools and pipeline / setup options\, followed by an open Q&A. \nSome of the topics covered will include: \n\nWorking with Dolby Atmos (on a single workstation)\nAux IO\nTimecode overlay\n\nWhen: Wednesday\, June 15th 2023\nTIme: 6:30pm Adelaide Time (7pm Eastern / 5pm Western)\nWhere: Zoom
URL:https://assg.org.au/event/pro-tools-webinar/
LOCATION:Zoom
CATEGORIES:Online,SA Event,Sponsor Event
END:VEVENT
END:VCALENDAR