BEGIN:VCALENDAR
VERSION:2.0
PRODID:-//ASSG - ECPv6.15.15//NONSGML v1.0//EN
CALSCALE:GREGORIAN
METHOD:PUBLISH
X-ORIGINAL-URL:https://assg.org.au
X-WR-CALDESC:Events for ASSG
REFRESH-INTERVAL;VALUE=DURATION:PT1H
X-Robots-Tag:noindex
X-PUBLISHED-TTL:PT1H
BEGIN:VTIMEZONE
TZID:Australia/Sydney
BEGIN:STANDARD
TZOFFSETFROM:+1100
TZOFFSETTO:+1000
TZNAME:AEST
DTSTART:20240406T160000
END:STANDARD
BEGIN:DAYLIGHT
TZOFFSETFROM:+1000
TZOFFSETTO:+1100
TZNAME:AEDT
DTSTART:20241005T160000
END:DAYLIGHT
BEGIN:STANDARD
TZOFFSETFROM:+1100
TZOFFSETTO:+1000
TZNAME:AEST
DTSTART:20250405T160000
END:STANDARD
BEGIN:DAYLIGHT
TZOFFSETFROM:+1000
TZOFFSETTO:+1100
TZNAME:AEDT
DTSTART:20251004T160000
END:DAYLIGHT
BEGIN:STANDARD
TZOFFSETFROM:+1100
TZOFFSETTO:+1000
TZNAME:AEST
DTSTART:20260404T160000
END:STANDARD
BEGIN:DAYLIGHT
TZOFFSETFROM:+1000
TZOFFSETTO:+1100
TZNAME:AEDT
DTSTART:20261003T160000
END:DAYLIGHT
END:VTIMEZONE
BEGIN:VEVENT
DTSTART;TZID=Australia/Sydney:20250627T170000
DTEND;TZID=Australia/Sydney:20250627T200000
DTSTAMP:20260424T050116
CREATED:20250527T024054Z
LAST-MODIFIED:20250527T033543Z
UID:7968-1751043600-1751054400@assg.org.au
SUMMARY:Narrow Road To The Deep North - Screening & Q&A
DESCRIPTION:This page is for members only.\n  \nIf you're a member of the ASSG already\, see our page here on how to get your log in details.Already logged in? Your membership fees are likely overdue.  \nNot an ASSG Member? Find out here on how you can join.
URL:https://assg.org.au/event/narrow-road-qna/
LOCATION:Soundfirm Sydney\, 100 Queen Street\, Beaconsfield\, NSW\, Australia
CATEGORIES:Member Only Event,NSW Events,Q&A
END:VEVENT
END:VCALENDAR