BEGIN:VCALENDAR
VERSION:2.0
PRODID:-//ASSG - ECPv6.15.15//NONSGML v1.0//EN
CALSCALE:GREGORIAN
METHOD:PUBLISH
X-WR-CALNAME:ASSG
X-ORIGINAL-URL:https://assg.org.au
X-WR-CALDESC:Events for ASSG
REFRESH-INTERVAL;VALUE=DURATION:PT1H
X-Robots-Tag:noindex
X-PUBLISHED-TTL:PT1H
BEGIN:VTIMEZONE
TZID:Australia/Sydney
BEGIN:STANDARD
TZOFFSETFROM:+1100
TZOFFSETTO:+1000
TZNAME:AEST
DTSTART:20240406T160000
END:STANDARD
BEGIN:DAYLIGHT
TZOFFSETFROM:+1000
TZOFFSETTO:+1100
TZNAME:AEDT
DTSTART:20241005T160000
END:DAYLIGHT
BEGIN:STANDARD
TZOFFSETFROM:+1100
TZOFFSETTO:+1000
TZNAME:AEST
DTSTART:20250405T160000
END:STANDARD
BEGIN:DAYLIGHT
TZOFFSETFROM:+1000
TZOFFSETTO:+1100
TZNAME:AEDT
DTSTART:20251004T160000
END:DAYLIGHT
BEGIN:STANDARD
TZOFFSETFROM:+1100
TZOFFSETTO:+1000
TZNAME:AEST
DTSTART:20260404T160000
END:STANDARD
BEGIN:DAYLIGHT
TZOFFSETFROM:+1000
TZOFFSETTO:+1100
TZNAME:AEDT
DTSTART:20261003T160000
END:DAYLIGHT
END:VTIMEZONE
BEGIN:VTIMEZONE
TZID:Australia/Brisbane
BEGIN:STANDARD
TZOFFSETFROM:+1000
TZOFFSETTO:+1000
TZNAME:AEST
DTSTART:20240101T000000
END:STANDARD
END:VTIMEZONE
BEGIN:VTIMEZONE
TZID:Australia/Adelaide
BEGIN:STANDARD
TZOFFSETFROM:+1030
TZOFFSETTO:+0930
TZNAME:ACST
DTSTART:20240406T163000
END:STANDARD
BEGIN:DAYLIGHT
TZOFFSETFROM:+0930
TZOFFSETTO:+1030
TZNAME:ACDT
DTSTART:20241005T163000
END:DAYLIGHT
BEGIN:STANDARD
TZOFFSETFROM:+1030
TZOFFSETTO:+0930
TZNAME:ACST
DTSTART:20250405T163000
END:STANDARD
BEGIN:DAYLIGHT
TZOFFSETFROM:+0930
TZOFFSETTO:+1030
TZNAME:ACDT
DTSTART:20251004T163000
END:DAYLIGHT
BEGIN:STANDARD
TZOFFSETFROM:+1030
TZOFFSETTO:+0930
TZNAME:ACST
DTSTART:20260404T163000
END:STANDARD
BEGIN:DAYLIGHT
TZOFFSETFROM:+0930
TZOFFSETTO:+1030
TZNAME:ACDT
DTSTART:20261003T163000
END:DAYLIGHT
END:VTIMEZONE
BEGIN:VEVENT
DTSTART;TZID=Australia/Sydney:20251128T170000
DTEND;TZID=Australia/Sydney:20251128T210000
DTSTAMP:20260425T003851
CREATED:20251123T055224Z
LAST-MODIFIED:20251123T055224Z
UID:11251-1764349200-1764363600@assg.org.au
SUMMARY:ASSG & Netflix present FutureSound: Trends in Audio Post for the Big and Small Screen.
DESCRIPTION:ASSG and Netflix present FutureSound: \nTrends in Audio Post for the Big and Small Screen. \nFriday November 28\, 5-9pm \nNetflix Sydney Office \n\nNetflix invites you to join us at their Sydney headquarters for an evening of food\, drinks and audio post insights from industry leaders Baylon Fonseca (Manager\, Sound Technology\, Netflix APAC)\, Drew Parsons (Avid)\, Mark Franken (Sounds In Sync) and Justin Webster (Matchbox) with your host\, ASSG President\, Nigel Christensen. \n\nOur awesome panelists will present the latest developments in audio for streaming and post production followed by a moderated Q&A where you can ask those burning questions about software\, workflow methods and the mysteries of what happens to our mixes once they’re delivered to Netflix. How is our work delivered all over the globe in so many formats and devices? What production technology is Netflix developing and how will this change the way we work? And of course there will be socialising with drinks and catering courtesy of Netflix. \n\nThis exclusive free event is strictly for ASSG members only and numbers are limited to a maximum of 50. And it’s the night before the ASSG Awards\, so it’s a great way to make the most of the awards weekend! \n\nDon’t miss this unique event. RSVP is essential and attendees are required to sign an NDA to enter the Netflix building.\nRSVP links have been sent to Members via email. If you feel you missed out\, please email us.
URL:https://assg.org.au/event/netflix_futuresound/
CATEGORIES:NSW Events,Panel,Sponsor Event
ATTACH;FMTTYPE=image/png:https://assg.org.au/wp-content/uploads/2025/11/Netflix-Event-Banner-scaled.png
END:VEVENT
BEGIN:VEVENT
DTSTART;TZID=Australia/Sydney:20250626T183000
DTEND;TZID=Australia/Sydney:20250626T210000
DTSTAMP:20260425T003851
CREATED:20250610T054709Z
LAST-MODIFIED:20250610T054709Z
UID:8055-1750962600-1750971600@assg.org.au
SUMMARY:ASSG VIC x SENNHEISER - Single point to Immersive Mix
DESCRIPTION:Thursday the 26th June we will be holding an evening with Sennheiser. From single point source to immersive mix. There will be a panel of experts to discuss workflow and ideas. from location recordists\, broadcast\, edit\, dialogue to re recording mixer. The journey from sound source to your ears. \nPannelist will be announced shortly
URL:https://assg.org.au/event/assg-vic-sennheiser-2025/
LOCATION:Music & Effects\, 1 Yarra Street\, South Yarra\, VIC\, Australia
CATEGORIES:Panel,Sponsor Event,VIC Events
ATTACH;FMTTYPE=image/png:https://assg.org.au/wp-content/uploads/2025/06/assgVic_Sennheiser_text_MC.png
END:VEVENT
BEGIN:VEVENT
DTSTART;TZID=Australia/Brisbane:20250619T180000
DTEND;TZID=Australia/Brisbane:20250619T210000
DTSTAMP:20260425T003851
CREATED:20250601T094645Z
LAST-MODIFIED:20250601T094645Z
UID:7985-1750356000-1750366800@assg.org.au
SUMMARY:ASSG QLD x Sennheiser - Bridging the Gap
DESCRIPTION:Join us for a discussion led by Brock Whitton\, Sennheiser’s Technical Application Engineer in ANZ\, along with a specialist panel of audio and editing experts.\n \nOur guest panel includes Seth Jackson from Soul Sound Design\, Thalia Colettis from Folklore\, and editing legend Derek Jones.\nLearn from experienced audio teams about how they solve challenges and find new ways to create amazing picture and sound quality. \nPlus\, we are celebrating two special milestones: Sennheiser’s 80th anniversary and the 50th birthday of the famous MKH416 microphone! \nThere are some very special lucky door prizes courtesy of Sennheiser\, including t-shirts\, hoodies\, and headphones! And one lucky person will walk away with a brand-new 416!  \nCatch up with friends from 6 pm with light refreshments provided courtesy of the ASSG on the SAE rooftop\, with the panel discussion starting at 6:30 pm in the theatrette. \n  \nThis event is sponsored by the Australian Screen Sound Guild\, Sennheiser\, SAE Brisbane\, and support from the Lyrebirds Screen Sound Club.
URL:https://assg.org.au/event/sennheiser-qld-2025/
LOCATION:SAE Brisbane\, Jane St\, West End\, QLD\, Australia
CATEGORIES:Panel,QLD Events,Sponsor Event
ATTACH;FMTTYPE=image/png:https://assg.org.au/wp-content/uploads/2025/06/Humantix-Banner-ASSG-v3-scaled.png
END:VEVENT
BEGIN:VEVENT
DTSTART;TZID=Australia/Adelaide:20250529T180000
DTEND;TZID=Australia/Adelaide:20250529T203000
DTSTAMP:20260425T003851
CREATED:20250517T034638Z
LAST-MODIFIED:20250517T034706Z
UID:7940-1748541600-1748550600@assg.org.au
SUMMARY:ASSG SA x Sennheiser: Bridging the Gap between audio production and post-production sound
DESCRIPTION:ASSG SA x Sennheiser  \nPresent: Bridging the Gap\, between audio teams involved in location\, foley and post-production settings.\n \nJoin Sennheiser ANZ’s  Technical Application Engineer\, Brock Whitton  & the South Australian Screen Sound Guild’s panel of audio experts when they discuss the challenges and workarounds for the modern audio professional. \nLearn from real-world audio teams how they tackle the obstacles and opportunities for screen and sound perfection to result. \nHelp Sennheiser celebrate their 80th birthday and as well the 50th Birthday of the MKH416 Mic. \n  \nPanelist:\n \n\n\n\nRe-recording Mixer  – Pete Smith\nFoley Artist – John Simpson\nProduction Mixer – Josh Williams\nSound Editor – Leah McKeown\nFacilitator – Brock Whitton\, Technical Application Engineer\, Sennheiser ANZ\n\nBrock Whitton joined Sennheiser in 2023 with a rich background in audio technology. His qualifications as an Acoustic Engineer coupled with a decade-long journey honing audio engineering allow him insight and technical expertise to easily explain Sennheiser technological solutions. Brock’s commitment to innovation and unparalleled understanding of the audio landscape makes him an integral part of the team as Sennheiser continues to pioneer new RF technology and wireless solutions.\n\n\n\n\n\n  \nWhen: Thursday\, May 29th 2025\nTime: Door open at 6pm with light refreshments\, Panel 6:30pm – 8:30pm\nWhere: SA Film Corporation\, 1 Mulberry Rd\, Glenside\, South Australia \nLucky DAW Prizes! \n 
URL:https://assg.org.au/event/assg-sa-sennheiser-production-post-panel/
LOCATION:South Australia Film Corporation\, 1 Mulberry Road\, Glenside\, South Australia\, Australia
CATEGORIES:Panel,Q&A,SA Event,Sponsor Event
ATTACH;FMTTYPE=image/png:https://assg.org.au/wp-content/uploads/2025/05/Sennheiser-SA-Mailchimp-2025.png
END:VEVENT
END:VCALENDAR